BEGIN:VCALENDAR
VERSION:2.0
PRODID:-//Luther Register News - ECPv6.15.20//NONSGML v1.0//EN
CALSCALE:GREGORIAN
METHOD:PUBLISH
X-WR-CALNAME:Luther Register News
X-ORIGINAL-URL:https://lutherregister.news
X-WR-CALDESC:Events for Luther Register News
REFRESH-INTERVAL;VALUE=DURATION:PT1H
X-Robots-Tag:noindex
X-PUBLISHED-TTL:PT1H
BEGIN:VTIMEZONE
TZID:America/Chicago
BEGIN:DAYLIGHT
TZOFFSETFROM:-0600
TZOFFSETTO:-0500
TZNAME:CDT
DTSTART:20290311T080000
END:DAYLIGHT
BEGIN:STANDARD
TZOFFSETFROM:-0500
TZOFFSETTO:-0600
TZNAME:CST
DTSTART:20291104T070000
END:STANDARD
BEGIN:DAYLIGHT
TZOFFSETFROM:-0600
TZOFFSETTO:-0500
TZNAME:CDT
DTSTART:20300310T080000
END:DAYLIGHT
BEGIN:STANDARD
TZOFFSETFROM:-0500
TZOFFSETTO:-0600
TZNAME:CST
DTSTART:20301103T070000
END:STANDARD
BEGIN:DAYLIGHT
TZOFFSETFROM:-0600
TZOFFSETTO:-0500
TZNAME:CDT
DTSTART:20310309T080000
END:DAYLIGHT
BEGIN:STANDARD
TZOFFSETFROM:-0500
TZOFFSETTO:-0600
TZNAME:CST
DTSTART:20311102T070000
END:STANDARD
BEGIN:DAYLIGHT
TZOFFSETFROM:-0600
TZOFFSETTO:-0500
TZNAME:CDT
DTSTART:20320314T080000
END:DAYLIGHT
BEGIN:STANDARD
TZOFFSETFROM:-0500
TZOFFSETTO:-0600
TZNAME:CST
DTSTART:20321107T070000
END:STANDARD
END:VTIMEZONE
BEGIN:VEVENT
DTSTART;TZID=America/Chicago:20300502T190000
DTEND;TZID=America/Chicago:20300502T210000
DTSTAMP:20260421T134738
CREATED:20260420T214401Z
LAST-MODIFIED:20260420T214401Z
UID:10000175-1903978800-1903986000@lutherregister.news
SUMMARY:First Thursday BUNKO
DESCRIPTION:Join the Luther Historical Society for a night of making friends and rolling the dice! The game is easy\, and the laughs are free. LHS will also share stories about our town’s history and its goals to create the new Plaza Memorial Park on Main Street. \n \n            \n            \n\n	Related
URL:https://lutherregister.news/event/first-thursday-bunko/2030-05-02/
LOCATION:Luther Community Center\, 18120 East Hogback Road\, Luther\, OK\, 73054
CATEGORIES:Luther Historical Society,Visit Luther
ATTACH;FMTTYPE=image/png:https://lutherregister.news/wp-content/uploads/2026/04/BUNKO.png
END:VEVENT
BEGIN:VEVENT
DTSTART;TZID=America/Chicago:20300606T190000
DTEND;TZID=America/Chicago:20300606T210000
DTSTAMP:20260421T134738
CREATED:20260420T214401Z
LAST-MODIFIED:20260420T214401Z
UID:10000176-1907002800-1907010000@lutherregister.news
SUMMARY:First Thursday BUNKO
DESCRIPTION:Join the Luther Historical Society for a night of making friends and rolling the dice! The game is easy\, and the laughs are free. LHS will also share stories about our town’s history and its goals to create the new Plaza Memorial Park on Main Street. \n \n            \n            \n\n	Related
URL:https://lutherregister.news/event/first-thursday-bunko/2030-06-06/
LOCATION:Luther Community Center\, 18120 East Hogback Road\, Luther\, OK\, 73054
CATEGORIES:Luther Historical Society,Visit Luther
ATTACH;FMTTYPE=image/png:https://lutherregister.news/wp-content/uploads/2026/04/BUNKO.png
END:VEVENT
BEGIN:VEVENT
DTSTART;TZID=America/Chicago:20300704T190000
DTEND;TZID=America/Chicago:20300704T210000
DTSTAMP:20260421T134738
CREATED:20260420T214401Z
LAST-MODIFIED:20260420T214401Z
UID:10000177-1909422000-1909429200@lutherregister.news
SUMMARY:First Thursday BUNKO
DESCRIPTION:Join the Luther Historical Society for a night of making friends and rolling the dice! The game is easy\, and the laughs are free. LHS will also share stories about our town’s history and its goals to create the new Plaza Memorial Park on Main Street. \n \n            \n            \n\n	Related
URL:https://lutherregister.news/event/first-thursday-bunko/2030-07-04/
LOCATION:Luther Community Center\, 18120 East Hogback Road\, Luther\, OK\, 73054
CATEGORIES:Luther Historical Society,Visit Luther
ATTACH;FMTTYPE=image/png:https://lutherregister.news/wp-content/uploads/2026/04/BUNKO.png
END:VEVENT
BEGIN:VEVENT
DTSTART;TZID=America/Chicago:20300801T190000
DTEND;TZID=America/Chicago:20300801T210000
DTSTAMP:20260421T134738
CREATED:20260420T214401Z
LAST-MODIFIED:20260420T214401Z
UID:10000178-1911841200-1911848400@lutherregister.news
SUMMARY:First Thursday BUNKO
DESCRIPTION:Join the Luther Historical Society for a night of making friends and rolling the dice! The game is easy\, and the laughs are free. LHS will also share stories about our town’s history and its goals to create the new Plaza Memorial Park on Main Street. \n \n            \n            \n\n	Related
URL:https://lutherregister.news/event/first-thursday-bunko/2030-08-01/
LOCATION:Luther Community Center\, 18120 East Hogback Road\, Luther\, OK\, 73054
CATEGORIES:Luther Historical Society,Visit Luther
ATTACH;FMTTYPE=image/png:https://lutherregister.news/wp-content/uploads/2026/04/BUNKO.png
END:VEVENT
BEGIN:VEVENT
DTSTART;TZID=America/Chicago:20300905T190000
DTEND;TZID=America/Chicago:20300905T210000
DTSTAMP:20260421T134738
CREATED:20260420T214401Z
LAST-MODIFIED:20260420T214401Z
UID:10000179-1914865200-1914872400@lutherregister.news
SUMMARY:First Thursday BUNKO
DESCRIPTION:Join the Luther Historical Society for a night of making friends and rolling the dice! The game is easy\, and the laughs are free. LHS will also share stories about our town’s history and its goals to create the new Plaza Memorial Park on Main Street. \n \n            \n            \n\n	Related
URL:https://lutherregister.news/event/first-thursday-bunko/2030-09-05/
LOCATION:Luther Community Center\, 18120 East Hogback Road\, Luther\, OK\, 73054
CATEGORIES:Luther Historical Society,Visit Luther
ATTACH;FMTTYPE=image/png:https://lutherregister.news/wp-content/uploads/2026/04/BUNKO.png
END:VEVENT
BEGIN:VEVENT
DTSTART;TZID=America/Chicago:20301003T190000
DTEND;TZID=America/Chicago:20301003T210000
DTSTAMP:20260421T134738
CREATED:20260420T214401Z
LAST-MODIFIED:20260420T214401Z
UID:10000180-1917284400-1917291600@lutherregister.news
SUMMARY:First Thursday BUNKO
DESCRIPTION:Join the Luther Historical Society for a night of making friends and rolling the dice! The game is easy\, and the laughs are free. LHS will also share stories about our town’s history and its goals to create the new Plaza Memorial Park on Main Street. \n \n            \n            \n\n	Related
URL:https://lutherregister.news/event/first-thursday-bunko/2030-10-03/
LOCATION:Luther Community Center\, 18120 East Hogback Road\, Luther\, OK\, 73054
CATEGORIES:Luther Historical Society,Visit Luther
ATTACH;FMTTYPE=image/png:https://lutherregister.news/wp-content/uploads/2026/04/BUNKO.png
END:VEVENT
BEGIN:VEVENT
DTSTART;TZID=America/Chicago:20301107T190000
DTEND;TZID=America/Chicago:20301107T210000
DTSTAMP:20260421T134738
CREATED:20260420T214401Z
LAST-MODIFIED:20260420T214401Z
UID:10000181-1920308400-1920315600@lutherregister.news
SUMMARY:First Thursday BUNKO
DESCRIPTION:Join the Luther Historical Society for a night of making friends and rolling the dice! The game is easy\, and the laughs are free. LHS will also share stories about our town’s history and its goals to create the new Plaza Memorial Park on Main Street. \n \n            \n            \n\n	Related
URL:https://lutherregister.news/event/first-thursday-bunko/2030-11-07/
LOCATION:Luther Community Center\, 18120 East Hogback Road\, Luther\, OK\, 73054
CATEGORIES:Luther Historical Society,Visit Luther
ATTACH;FMTTYPE=image/png:https://lutherregister.news/wp-content/uploads/2026/04/BUNKO.png
END:VEVENT
BEGIN:VEVENT
DTSTART;TZID=America/Chicago:20301205T190000
DTEND;TZID=America/Chicago:20301205T210000
DTSTAMP:20260421T134738
CREATED:20260420T214401Z
LAST-MODIFIED:20260420T214401Z
UID:10000182-1922727600-1922734800@lutherregister.news
SUMMARY:First Thursday BUNKO
DESCRIPTION:Join the Luther Historical Society for a night of making friends and rolling the dice! The game is easy\, and the laughs are free. LHS will also share stories about our town’s history and its goals to create the new Plaza Memorial Park on Main Street. \n \n            \n            \n\n	Related
URL:https://lutherregister.news/event/first-thursday-bunko/2030-12-05/
LOCATION:Luther Community Center\, 18120 East Hogback Road\, Luther\, OK\, 73054
CATEGORIES:Luther Historical Society,Visit Luther
ATTACH;FMTTYPE=image/png:https://lutherregister.news/wp-content/uploads/2026/04/BUNKO.png
END:VEVENT
BEGIN:VEVENT
DTSTART;TZID=America/Chicago:20310102T190000
DTEND;TZID=America/Chicago:20310102T210000
DTSTAMP:20260421T134738
CREATED:20260420T214401Z
LAST-MODIFIED:20260420T214401Z
UID:10000183-1925146800-1925154000@lutherregister.news
SUMMARY:First Thursday BUNKO
DESCRIPTION:Join the Luther Historical Society for a night of making friends and rolling the dice! The game is easy\, and the laughs are free. LHS will also share stories about our town’s history and its goals to create the new Plaza Memorial Park on Main Street. \n \n            \n            \n\n	Related
URL:https://lutherregister.news/event/first-thursday-bunko/2031-01-02/
LOCATION:Luther Community Center\, 18120 East Hogback Road\, Luther\, OK\, 73054
CATEGORIES:Luther Historical Society,Visit Luther
ATTACH;FMTTYPE=image/png:https://lutherregister.news/wp-content/uploads/2026/04/BUNKO.png
END:VEVENT
BEGIN:VEVENT
DTSTART;TZID=America/Chicago:20310206T190000
DTEND;TZID=America/Chicago:20310206T210000
DTSTAMP:20260421T134738
CREATED:20260420T214401Z
LAST-MODIFIED:20260420T214401Z
UID:10000184-1928170800-1928178000@lutherregister.news
SUMMARY:First Thursday BUNKO
DESCRIPTION:Join the Luther Historical Society for a night of making friends and rolling the dice! The game is easy\, and the laughs are free. LHS will also share stories about our town’s history and its goals to create the new Plaza Memorial Park on Main Street. \n \n            \n            \n\n	Related
URL:https://lutherregister.news/event/first-thursday-bunko/2031-02-06/
LOCATION:Luther Community Center\, 18120 East Hogback Road\, Luther\, OK\, 73054
CATEGORIES:Luther Historical Society,Visit Luther
ATTACH;FMTTYPE=image/png:https://lutherregister.news/wp-content/uploads/2026/04/BUNKO.png
END:VEVENT
BEGIN:VEVENT
DTSTART;TZID=America/Chicago:20310306T190000
DTEND;TZID=America/Chicago:20310306T210000
DTSTAMP:20260421T134738
CREATED:20260420T214401Z
LAST-MODIFIED:20260420T214401Z
UID:10000185-1930590000-1930597200@lutherregister.news
SUMMARY:First Thursday BUNKO
DESCRIPTION:Join the Luther Historical Society for a night of making friends and rolling the dice! The game is easy\, and the laughs are free. LHS will also share stories about our town’s history and its goals to create the new Plaza Memorial Park on Main Street. \n \n            \n            \n\n	Related
URL:https://lutherregister.news/event/first-thursday-bunko/2031-03-06/
LOCATION:Luther Community Center\, 18120 East Hogback Road\, Luther\, OK\, 73054
CATEGORIES:Luther Historical Society,Visit Luther
ATTACH;FMTTYPE=image/png:https://lutherregister.news/wp-content/uploads/2026/04/BUNKO.png
END:VEVENT
BEGIN:VEVENT
DTSTART;TZID=America/Chicago:20310403T190000
DTEND;TZID=America/Chicago:20310403T210000
DTSTAMP:20260421T134738
CREATED:20260420T214401Z
LAST-MODIFIED:20260420T214401Z
UID:10000186-1933009200-1933016400@lutherregister.news
SUMMARY:First Thursday BUNKO
DESCRIPTION:Join the Luther Historical Society for a night of making friends and rolling the dice! The game is easy\, and the laughs are free. LHS will also share stories about our town’s history and its goals to create the new Plaza Memorial Park on Main Street. \n \n            \n            \n\n	Related
URL:https://lutherregister.news/event/first-thursday-bunko/2031-04-03/
LOCATION:Luther Community Center\, 18120 East Hogback Road\, Luther\, OK\, 73054
CATEGORIES:Luther Historical Society,Visit Luther
ATTACH;FMTTYPE=image/png:https://lutherregister.news/wp-content/uploads/2026/04/BUNKO.png
END:VEVENT
END:VCALENDAR