BEGIN:VCALENDAR
VERSION:2.0
PRODID:-//Luther Register News - ECPv6.15.20//NONSGML v1.0//EN
CALSCALE:GREGORIAN
METHOD:PUBLISH
X-WR-CALNAME:Luther Register News
X-ORIGINAL-URL:https://lutherregister.news
X-WR-CALDESC:Events for Luther Register News
REFRESH-INTERVAL;VALUE=DURATION:PT1H
X-Robots-Tag:noindex
X-PUBLISHED-TTL:PT1H
BEGIN:VTIMEZONE
TZID:America/Chicago
BEGIN:DAYLIGHT
TZOFFSETFROM:-0600
TZOFFSETTO:-0500
TZNAME:CDT
DTSTART:20260308T080000
END:DAYLIGHT
BEGIN:STANDARD
TZOFFSETFROM:-0500
TZOFFSETTO:-0600
TZNAME:CST
DTSTART:20261101T070000
END:STANDARD
BEGIN:DAYLIGHT
TZOFFSETFROM:-0600
TZOFFSETTO:-0500
TZNAME:CDT
DTSTART:20270314T080000
END:DAYLIGHT
BEGIN:STANDARD
TZOFFSETFROM:-0500
TZOFFSETTO:-0600
TZNAME:CST
DTSTART:20271107T070000
END:STANDARD
BEGIN:DAYLIGHT
TZOFFSETFROM:-0600
TZOFFSETTO:-0500
TZNAME:CDT
DTSTART:20280312T080000
END:DAYLIGHT
BEGIN:STANDARD
TZOFFSETFROM:-0500
TZOFFSETTO:-0600
TZNAME:CST
DTSTART:20281105T070000
END:STANDARD
BEGIN:DAYLIGHT
TZOFFSETFROM:-0600
TZOFFSETTO:-0500
TZNAME:CDT
DTSTART:20290311T080000
END:DAYLIGHT
BEGIN:STANDARD
TZOFFSETFROM:-0500
TZOFFSETTO:-0600
TZNAME:CST
DTSTART:20291104T070000
END:STANDARD
BEGIN:DAYLIGHT
TZOFFSETFROM:-0600
TZOFFSETTO:-0500
TZNAME:CDT
DTSTART:20300310T080000
END:DAYLIGHT
BEGIN:STANDARD
TZOFFSETFROM:-0500
TZOFFSETTO:-0600
TZNAME:CST
DTSTART:20301103T070000
END:STANDARD
END:VTIMEZONE
BEGIN:VEVENT
DTSTART;TZID=America/Chicago:20270506T190000
DTEND;TZID=America/Chicago:20270506T210000
DTSTAMP:20260421T091359
CREATED:20260420T214401Z
LAST-MODIFIED:20260420T214401Z
UID:10000139-1809630000-1809637200@lutherregister.news
SUMMARY:First Thursday BUNKO
DESCRIPTION:Join the Luther Historical Society for a night of making friends and rolling the dice! The game is easy\, and the laughs are free. LHS will also share stories about our town’s history and its goals to create the new Plaza Memorial Park on Main Street. \n \n            \n            \n\n	Related
URL:https://lutherregister.news/event/first-thursday-bunko/2027-05-06/
LOCATION:Luther Community Center\, 18120 East Hogback Road\, Luther\, OK\, 73054
CATEGORIES:Luther Historical Society,Visit Luther
ATTACH;FMTTYPE=image/png:https://lutherregister.news/wp-content/uploads/2026/04/BUNKO.png
END:VEVENT
BEGIN:VEVENT
DTSTART;TZID=America/Chicago:20270603T190000
DTEND;TZID=America/Chicago:20270603T210000
DTSTAMP:20260421T091359
CREATED:20260420T214401Z
LAST-MODIFIED:20260420T214401Z
UID:10000140-1812049200-1812056400@lutherregister.news
SUMMARY:First Thursday BUNKO
DESCRIPTION:Join the Luther Historical Society for a night of making friends and rolling the dice! The game is easy\, and the laughs are free. LHS will also share stories about our town’s history and its goals to create the new Plaza Memorial Park on Main Street. \n \n            \n            \n\n	Related
URL:https://lutherregister.news/event/first-thursday-bunko/2027-06-03/
LOCATION:Luther Community Center\, 18120 East Hogback Road\, Luther\, OK\, 73054
CATEGORIES:Luther Historical Society,Visit Luther
ATTACH;FMTTYPE=image/png:https://lutherregister.news/wp-content/uploads/2026/04/BUNKO.png
END:VEVENT
BEGIN:VEVENT
DTSTART;TZID=America/Chicago:20270701T190000
DTEND;TZID=America/Chicago:20270701T210000
DTSTAMP:20260421T091359
CREATED:20260420T214401Z
LAST-MODIFIED:20260420T214401Z
UID:10000141-1814468400-1814475600@lutherregister.news
SUMMARY:First Thursday BUNKO
DESCRIPTION:Join the Luther Historical Society for a night of making friends and rolling the dice! The game is easy\, and the laughs are free. LHS will also share stories about our town’s history and its goals to create the new Plaza Memorial Park on Main Street. \n \n            \n            \n\n	Related
URL:https://lutherregister.news/event/first-thursday-bunko/2027-07-01/
LOCATION:Luther Community Center\, 18120 East Hogback Road\, Luther\, OK\, 73054
CATEGORIES:Luther Historical Society,Visit Luther
ATTACH;FMTTYPE=image/png:https://lutherregister.news/wp-content/uploads/2026/04/BUNKO.png
END:VEVENT
BEGIN:VEVENT
DTSTART;TZID=America/Chicago:20270805T190000
DTEND;TZID=America/Chicago:20270805T210000
DTSTAMP:20260421T091359
CREATED:20260420T214401Z
LAST-MODIFIED:20260420T214401Z
UID:10000142-1817492400-1817499600@lutherregister.news
SUMMARY:First Thursday BUNKO
DESCRIPTION:Join the Luther Historical Society for a night of making friends and rolling the dice! The game is easy\, and the laughs are free. LHS will also share stories about our town’s history and its goals to create the new Plaza Memorial Park on Main Street. \n \n            \n            \n\n	Related
URL:https://lutherregister.news/event/first-thursday-bunko/2027-08-05/
LOCATION:Luther Community Center\, 18120 East Hogback Road\, Luther\, OK\, 73054
CATEGORIES:Luther Historical Society,Visit Luther
ATTACH;FMTTYPE=image/png:https://lutherregister.news/wp-content/uploads/2026/04/BUNKO.png
END:VEVENT
BEGIN:VEVENT
DTSTART;TZID=America/Chicago:20270902T190000
DTEND;TZID=America/Chicago:20270902T210000
DTSTAMP:20260421T091359
CREATED:20260420T214401Z
LAST-MODIFIED:20260420T214401Z
UID:10000143-1819911600-1819918800@lutherregister.news
SUMMARY:First Thursday BUNKO
DESCRIPTION:Join the Luther Historical Society for a night of making friends and rolling the dice! The game is easy\, and the laughs are free. LHS will also share stories about our town’s history and its goals to create the new Plaza Memorial Park on Main Street. \n \n            \n            \n\n	Related
URL:https://lutherregister.news/event/first-thursday-bunko/2027-09-02/
LOCATION:Luther Community Center\, 18120 East Hogback Road\, Luther\, OK\, 73054
CATEGORIES:Luther Historical Society,Visit Luther
ATTACH;FMTTYPE=image/png:https://lutherregister.news/wp-content/uploads/2026/04/BUNKO.png
END:VEVENT
BEGIN:VEVENT
DTSTART;TZID=America/Chicago:20271007T190000
DTEND;TZID=America/Chicago:20271007T210000
DTSTAMP:20260421T091359
CREATED:20260420T214401Z
LAST-MODIFIED:20260420T214401Z
UID:10000144-1822935600-1822942800@lutherregister.news
SUMMARY:First Thursday BUNKO
DESCRIPTION:Join the Luther Historical Society for a night of making friends and rolling the dice! The game is easy\, and the laughs are free. LHS will also share stories about our town’s history and its goals to create the new Plaza Memorial Park on Main Street. \n \n            \n            \n\n	Related
URL:https://lutherregister.news/event/first-thursday-bunko/2027-10-07/
LOCATION:Luther Community Center\, 18120 East Hogback Road\, Luther\, OK\, 73054
CATEGORIES:Luther Historical Society,Visit Luther
ATTACH;FMTTYPE=image/png:https://lutherregister.news/wp-content/uploads/2026/04/BUNKO.png
END:VEVENT
BEGIN:VEVENT
DTSTART;TZID=America/Chicago:20271104T190000
DTEND;TZID=America/Chicago:20271104T210000
DTSTAMP:20260421T091359
CREATED:20260420T214401Z
LAST-MODIFIED:20260420T214401Z
UID:10000145-1825354800-1825362000@lutherregister.news
SUMMARY:First Thursday BUNKO
DESCRIPTION:Join the Luther Historical Society for a night of making friends and rolling the dice! The game is easy\, and the laughs are free. LHS will also share stories about our town’s history and its goals to create the new Plaza Memorial Park on Main Street. \n \n            \n            \n\n	Related
URL:https://lutherregister.news/event/first-thursday-bunko/2027-11-04/
LOCATION:Luther Community Center\, 18120 East Hogback Road\, Luther\, OK\, 73054
CATEGORIES:Luther Historical Society,Visit Luther
ATTACH;FMTTYPE=image/png:https://lutherregister.news/wp-content/uploads/2026/04/BUNKO.png
END:VEVENT
BEGIN:VEVENT
DTSTART;TZID=America/Chicago:20271202T190000
DTEND;TZID=America/Chicago:20271202T210000
DTSTAMP:20260421T091359
CREATED:20260420T214401Z
LAST-MODIFIED:20260420T214401Z
UID:10000146-1827774000-1827781200@lutherregister.news
SUMMARY:First Thursday BUNKO
DESCRIPTION:Join the Luther Historical Society for a night of making friends and rolling the dice! The game is easy\, and the laughs are free. LHS will also share stories about our town’s history and its goals to create the new Plaza Memorial Park on Main Street. \n \n            \n            \n\n	Related
URL:https://lutherregister.news/event/first-thursday-bunko/2027-12-02/
LOCATION:Luther Community Center\, 18120 East Hogback Road\, Luther\, OK\, 73054
CATEGORIES:Luther Historical Society,Visit Luther
ATTACH;FMTTYPE=image/png:https://lutherregister.news/wp-content/uploads/2026/04/BUNKO.png
END:VEVENT
BEGIN:VEVENT
DTSTART;TZID=America/Chicago:20280106T190000
DTEND;TZID=America/Chicago:20280106T210000
DTSTAMP:20260421T091359
CREATED:20260420T214401Z
LAST-MODIFIED:20260420T214401Z
UID:10000147-1830798000-1830805200@lutherregister.news
SUMMARY:First Thursday BUNKO
DESCRIPTION:Join the Luther Historical Society for a night of making friends and rolling the dice! The game is easy\, and the laughs are free. LHS will also share stories about our town’s history and its goals to create the new Plaza Memorial Park on Main Street. \n \n            \n            \n\n	Related
URL:https://lutherregister.news/event/first-thursday-bunko/2028-01-06/
LOCATION:Luther Community Center\, 18120 East Hogback Road\, Luther\, OK\, 73054
CATEGORIES:Luther Historical Society,Visit Luther
ATTACH;FMTTYPE=image/png:https://lutherregister.news/wp-content/uploads/2026/04/BUNKO.png
END:VEVENT
BEGIN:VEVENT
DTSTART;TZID=America/Chicago:20280203T190000
DTEND;TZID=America/Chicago:20280203T210000
DTSTAMP:20260421T091359
CREATED:20260420T214401Z
LAST-MODIFIED:20260420T214401Z
UID:10000148-1833217200-1833224400@lutherregister.news
SUMMARY:First Thursday BUNKO
DESCRIPTION:Join the Luther Historical Society for a night of making friends and rolling the dice! The game is easy\, and the laughs are free. LHS will also share stories about our town’s history and its goals to create the new Plaza Memorial Park on Main Street. \n \n            \n            \n\n	Related
URL:https://lutherregister.news/event/first-thursday-bunko/2028-02-03/
LOCATION:Luther Community Center\, 18120 East Hogback Road\, Luther\, OK\, 73054
CATEGORIES:Luther Historical Society,Visit Luther
ATTACH;FMTTYPE=image/png:https://lutherregister.news/wp-content/uploads/2026/04/BUNKO.png
END:VEVENT
BEGIN:VEVENT
DTSTART;TZID=America/Chicago:20280302T190000
DTEND;TZID=America/Chicago:20280302T210000
DTSTAMP:20260421T091359
CREATED:20260420T214401Z
LAST-MODIFIED:20260420T214401Z
UID:10000149-1835636400-1835643600@lutherregister.news
SUMMARY:First Thursday BUNKO
DESCRIPTION:Join the Luther Historical Society for a night of making friends and rolling the dice! The game is easy\, and the laughs are free. LHS will also share stories about our town’s history and its goals to create the new Plaza Memorial Park on Main Street. \n \n            \n            \n\n	Related
URL:https://lutherregister.news/event/first-thursday-bunko/2028-03-02/
LOCATION:Luther Community Center\, 18120 East Hogback Road\, Luther\, OK\, 73054
CATEGORIES:Luther Historical Society,Visit Luther
ATTACH;FMTTYPE=image/png:https://lutherregister.news/wp-content/uploads/2026/04/BUNKO.png
END:VEVENT
BEGIN:VEVENT
DTSTART;TZID=America/Chicago:20280406T190000
DTEND;TZID=America/Chicago:20280406T210000
DTSTAMP:20260421T091359
CREATED:20260420T214401Z
LAST-MODIFIED:20260420T214401Z
UID:10000150-1838660400-1838667600@lutherregister.news
SUMMARY:First Thursday BUNKO
DESCRIPTION:Join the Luther Historical Society for a night of making friends and rolling the dice! The game is easy\, and the laughs are free. LHS will also share stories about our town’s history and its goals to create the new Plaza Memorial Park on Main Street. \n \n            \n            \n\n	Related
URL:https://lutherregister.news/event/first-thursday-bunko/2028-04-06/
LOCATION:Luther Community Center\, 18120 East Hogback Road\, Luther\, OK\, 73054
CATEGORIES:Luther Historical Society,Visit Luther
ATTACH;FMTTYPE=image/png:https://lutherregister.news/wp-content/uploads/2026/04/BUNKO.png
END:VEVENT
BEGIN:VEVENT
DTSTART;TZID=America/Chicago:20280504T190000
DTEND;TZID=America/Chicago:20280504T210000
DTSTAMP:20260421T091359
CREATED:20260420T214401Z
LAST-MODIFIED:20260420T214401Z
UID:10000151-1841079600-1841086800@lutherregister.news
SUMMARY:First Thursday BUNKO
DESCRIPTION:Join the Luther Historical Society for a night of making friends and rolling the dice! The game is easy\, and the laughs are free. LHS will also share stories about our town’s history and its goals to create the new Plaza Memorial Park on Main Street. \n \n            \n            \n\n	Related
URL:https://lutherregister.news/event/first-thursday-bunko/2028-05-04/
LOCATION:Luther Community Center\, 18120 East Hogback Road\, Luther\, OK\, 73054
CATEGORIES:Luther Historical Society,Visit Luther
ATTACH;FMTTYPE=image/png:https://lutherregister.news/wp-content/uploads/2026/04/BUNKO.png
END:VEVENT
BEGIN:VEVENT
DTSTART;TZID=America/Chicago:20280601T190000
DTEND;TZID=America/Chicago:20280601T210000
DTSTAMP:20260421T091359
CREATED:20260420T214401Z
LAST-MODIFIED:20260420T214401Z
UID:10000152-1843498800-1843506000@lutherregister.news
SUMMARY:First Thursday BUNKO
DESCRIPTION:Join the Luther Historical Society for a night of making friends and rolling the dice! The game is easy\, and the laughs are free. LHS will also share stories about our town’s history and its goals to create the new Plaza Memorial Park on Main Street. \n \n            \n            \n\n	Related
URL:https://lutherregister.news/event/first-thursday-bunko/2028-06-01/
LOCATION:Luther Community Center\, 18120 East Hogback Road\, Luther\, OK\, 73054
CATEGORIES:Luther Historical Society,Visit Luther
ATTACH;FMTTYPE=image/png:https://lutherregister.news/wp-content/uploads/2026/04/BUNKO.png
END:VEVENT
BEGIN:VEVENT
DTSTART;TZID=America/Chicago:20280706T190000
DTEND;TZID=America/Chicago:20280706T210000
DTSTAMP:20260421T091359
CREATED:20260420T214401Z
LAST-MODIFIED:20260420T214401Z
UID:10000153-1846522800-1846530000@lutherregister.news
SUMMARY:First Thursday BUNKO
DESCRIPTION:Join the Luther Historical Society for a night of making friends and rolling the dice! The game is easy\, and the laughs are free. LHS will also share stories about our town’s history and its goals to create the new Plaza Memorial Park on Main Street. \n \n            \n            \n\n	Related
URL:https://lutherregister.news/event/first-thursday-bunko/2028-07-06/
LOCATION:Luther Community Center\, 18120 East Hogback Road\, Luther\, OK\, 73054
CATEGORIES:Luther Historical Society,Visit Luther
ATTACH;FMTTYPE=image/png:https://lutherregister.news/wp-content/uploads/2026/04/BUNKO.png
END:VEVENT
BEGIN:VEVENT
DTSTART;TZID=America/Chicago:20280803T190000
DTEND;TZID=America/Chicago:20280803T210000
DTSTAMP:20260421T091359
CREATED:20260420T214401Z
LAST-MODIFIED:20260420T214401Z
UID:10000154-1848942000-1848949200@lutherregister.news
SUMMARY:First Thursday BUNKO
DESCRIPTION:Join the Luther Historical Society for a night of making friends and rolling the dice! The game is easy\, and the laughs are free. LHS will also share stories about our town’s history and its goals to create the new Plaza Memorial Park on Main Street. \n \n            \n            \n\n	Related
URL:https://lutherregister.news/event/first-thursday-bunko/2028-08-03/
LOCATION:Luther Community Center\, 18120 East Hogback Road\, Luther\, OK\, 73054
CATEGORIES:Luther Historical Society,Visit Luther
ATTACH;FMTTYPE=image/png:https://lutherregister.news/wp-content/uploads/2026/04/BUNKO.png
END:VEVENT
BEGIN:VEVENT
DTSTART;TZID=America/Chicago:20280907T190000
DTEND;TZID=America/Chicago:20280907T210000
DTSTAMP:20260421T091359
CREATED:20260420T214401Z
LAST-MODIFIED:20260420T214401Z
UID:10000155-1851966000-1851973200@lutherregister.news
SUMMARY:First Thursday BUNKO
DESCRIPTION:Join the Luther Historical Society for a night of making friends and rolling the dice! The game is easy\, and the laughs are free. LHS will also share stories about our town’s history and its goals to create the new Plaza Memorial Park on Main Street. \n \n            \n            \n\n	Related
URL:https://lutherregister.news/event/first-thursday-bunko/2028-09-07/
LOCATION:Luther Community Center\, 18120 East Hogback Road\, Luther\, OK\, 73054
CATEGORIES:Luther Historical Society,Visit Luther
ATTACH;FMTTYPE=image/png:https://lutherregister.news/wp-content/uploads/2026/04/BUNKO.png
END:VEVENT
BEGIN:VEVENT
DTSTART;TZID=America/Chicago:20281005T190000
DTEND;TZID=America/Chicago:20281005T210000
DTSTAMP:20260421T091359
CREATED:20260420T214401Z
LAST-MODIFIED:20260420T214401Z
UID:10000156-1854385200-1854392400@lutherregister.news
SUMMARY:First Thursday BUNKO
DESCRIPTION:Join the Luther Historical Society for a night of making friends and rolling the dice! The game is easy\, and the laughs are free. LHS will also share stories about our town’s history and its goals to create the new Plaza Memorial Park on Main Street. \n \n            \n            \n\n	Related
URL:https://lutherregister.news/event/first-thursday-bunko/2028-10-05/
LOCATION:Luther Community Center\, 18120 East Hogback Road\, Luther\, OK\, 73054
CATEGORIES:Luther Historical Society,Visit Luther
ATTACH;FMTTYPE=image/png:https://lutherregister.news/wp-content/uploads/2026/04/BUNKO.png
END:VEVENT
BEGIN:VEVENT
DTSTART;TZID=America/Chicago:20281102T190000
DTEND;TZID=America/Chicago:20281102T210000
DTSTAMP:20260421T091359
CREATED:20260420T214401Z
LAST-MODIFIED:20260420T214401Z
UID:10000157-1856804400-1856811600@lutherregister.news
SUMMARY:First Thursday BUNKO
DESCRIPTION:Join the Luther Historical Society for a night of making friends and rolling the dice! The game is easy\, and the laughs are free. LHS will also share stories about our town’s history and its goals to create the new Plaza Memorial Park on Main Street. \n \n            \n            \n\n	Related
URL:https://lutherregister.news/event/first-thursday-bunko/2028-11-02/
LOCATION:Luther Community Center\, 18120 East Hogback Road\, Luther\, OK\, 73054
CATEGORIES:Luther Historical Society,Visit Luther
ATTACH;FMTTYPE=image/png:https://lutherregister.news/wp-content/uploads/2026/04/BUNKO.png
END:VEVENT
BEGIN:VEVENT
DTSTART;TZID=America/Chicago:20281207T190000
DTEND;TZID=America/Chicago:20281207T210000
DTSTAMP:20260421T091359
CREATED:20260420T214401Z
LAST-MODIFIED:20260420T214401Z
UID:10000158-1859828400-1859835600@lutherregister.news
SUMMARY:First Thursday BUNKO
DESCRIPTION:Join the Luther Historical Society for a night of making friends and rolling the dice! The game is easy\, and the laughs are free. LHS will also share stories about our town’s history and its goals to create the new Plaza Memorial Park on Main Street. \n \n            \n            \n\n	Related
URL:https://lutherregister.news/event/first-thursday-bunko/2028-12-07/
LOCATION:Luther Community Center\, 18120 East Hogback Road\, Luther\, OK\, 73054
CATEGORIES:Luther Historical Society,Visit Luther
ATTACH;FMTTYPE=image/png:https://lutherregister.news/wp-content/uploads/2026/04/BUNKO.png
END:VEVENT
BEGIN:VEVENT
DTSTART;TZID=America/Chicago:20290104T190000
DTEND;TZID=America/Chicago:20290104T210000
DTSTAMP:20260421T091359
CREATED:20260420T214401Z
LAST-MODIFIED:20260420T214401Z
UID:10000159-1862247600-1862254800@lutherregister.news
SUMMARY:First Thursday BUNKO
DESCRIPTION:Join the Luther Historical Society for a night of making friends and rolling the dice! The game is easy\, and the laughs are free. LHS will also share stories about our town’s history and its goals to create the new Plaza Memorial Park on Main Street. \n \n            \n            \n\n	Related
URL:https://lutherregister.news/event/first-thursday-bunko/2029-01-04/
LOCATION:Luther Community Center\, 18120 East Hogback Road\, Luther\, OK\, 73054
CATEGORIES:Luther Historical Society,Visit Luther
ATTACH;FMTTYPE=image/png:https://lutherregister.news/wp-content/uploads/2026/04/BUNKO.png
END:VEVENT
BEGIN:VEVENT
DTSTART;TZID=America/Chicago:20290201T190000
DTEND;TZID=America/Chicago:20290201T210000
DTSTAMP:20260421T091359
CREATED:20260420T214401Z
LAST-MODIFIED:20260420T214401Z
UID:10000160-1864666800-1864674000@lutherregister.news
SUMMARY:First Thursday BUNKO
DESCRIPTION:Join the Luther Historical Society for a night of making friends and rolling the dice! The game is easy\, and the laughs are free. LHS will also share stories about our town’s history and its goals to create the new Plaza Memorial Park on Main Street. \n \n            \n            \n\n	Related
URL:https://lutherregister.news/event/first-thursday-bunko/2029-02-01/
LOCATION:Luther Community Center\, 18120 East Hogback Road\, Luther\, OK\, 73054
CATEGORIES:Luther Historical Society,Visit Luther
ATTACH;FMTTYPE=image/png:https://lutherregister.news/wp-content/uploads/2026/04/BUNKO.png
END:VEVENT
BEGIN:VEVENT
DTSTART;TZID=America/Chicago:20290301T190000
DTEND;TZID=America/Chicago:20290301T210000
DTSTAMP:20260421T091359
CREATED:20260420T214401Z
LAST-MODIFIED:20260420T214401Z
UID:10000161-1867086000-1867093200@lutherregister.news
SUMMARY:First Thursday BUNKO
DESCRIPTION:Join the Luther Historical Society for a night of making friends and rolling the dice! The game is easy\, and the laughs are free. LHS will also share stories about our town’s history and its goals to create the new Plaza Memorial Park on Main Street. \n \n            \n            \n\n	Related
URL:https://lutherregister.news/event/first-thursday-bunko/2029-03-01/
LOCATION:Luther Community Center\, 18120 East Hogback Road\, Luther\, OK\, 73054
CATEGORIES:Luther Historical Society,Visit Luther
ATTACH;FMTTYPE=image/png:https://lutherregister.news/wp-content/uploads/2026/04/BUNKO.png
END:VEVENT
BEGIN:VEVENT
DTSTART;TZID=America/Chicago:20290405T190000
DTEND;TZID=America/Chicago:20290405T210000
DTSTAMP:20260421T091359
CREATED:20260420T214401Z
LAST-MODIFIED:20260420T214401Z
UID:10000162-1870110000-1870117200@lutherregister.news
SUMMARY:First Thursday BUNKO
DESCRIPTION:Join the Luther Historical Society for a night of making friends and rolling the dice! The game is easy\, and the laughs are free. LHS will also share stories about our town’s history and its goals to create the new Plaza Memorial Park on Main Street. \n \n            \n            \n\n	Related
URL:https://lutherregister.news/event/first-thursday-bunko/2029-04-05/
LOCATION:Luther Community Center\, 18120 East Hogback Road\, Luther\, OK\, 73054
CATEGORIES:Luther Historical Society,Visit Luther
ATTACH;FMTTYPE=image/png:https://lutherregister.news/wp-content/uploads/2026/04/BUNKO.png
END:VEVENT
BEGIN:VEVENT
DTSTART;TZID=America/Chicago:20290503T190000
DTEND;TZID=America/Chicago:20290503T210000
DTSTAMP:20260421T091359
CREATED:20260420T214401Z
LAST-MODIFIED:20260420T214401Z
UID:10000163-1872529200-1872536400@lutherregister.news
SUMMARY:First Thursday BUNKO
DESCRIPTION:Join the Luther Historical Society for a night of making friends and rolling the dice! The game is easy\, and the laughs are free. LHS will also share stories about our town’s history and its goals to create the new Plaza Memorial Park on Main Street. \n \n            \n            \n\n	Related
URL:https://lutherregister.news/event/first-thursday-bunko/2029-05-03/
LOCATION:Luther Community Center\, 18120 East Hogback Road\, Luther\, OK\, 73054
CATEGORIES:Luther Historical Society,Visit Luther
ATTACH;FMTTYPE=image/png:https://lutherregister.news/wp-content/uploads/2026/04/BUNKO.png
END:VEVENT
BEGIN:VEVENT
DTSTART;TZID=America/Chicago:20290607T190000
DTEND;TZID=America/Chicago:20290607T210000
DTSTAMP:20260421T091359
CREATED:20260420T214401Z
LAST-MODIFIED:20260420T214401Z
UID:10000164-1875553200-1875560400@lutherregister.news
SUMMARY:First Thursday BUNKO
DESCRIPTION:Join the Luther Historical Society for a night of making friends and rolling the dice! The game is easy\, and the laughs are free. LHS will also share stories about our town’s history and its goals to create the new Plaza Memorial Park on Main Street. \n \n            \n            \n\n	Related
URL:https://lutherregister.news/event/first-thursday-bunko/2029-06-07/
LOCATION:Luther Community Center\, 18120 East Hogback Road\, Luther\, OK\, 73054
CATEGORIES:Luther Historical Society,Visit Luther
ATTACH;FMTTYPE=image/png:https://lutherregister.news/wp-content/uploads/2026/04/BUNKO.png
END:VEVENT
BEGIN:VEVENT
DTSTART;TZID=America/Chicago:20290705T190000
DTEND;TZID=America/Chicago:20290705T210000
DTSTAMP:20260421T091359
CREATED:20260420T214401Z
LAST-MODIFIED:20260420T214401Z
UID:10000165-1877972400-1877979600@lutherregister.news
SUMMARY:First Thursday BUNKO
DESCRIPTION:Join the Luther Historical Society for a night of making friends and rolling the dice! The game is easy\, and the laughs are free. LHS will also share stories about our town’s history and its goals to create the new Plaza Memorial Park on Main Street. \n \n            \n            \n\n	Related
URL:https://lutherregister.news/event/first-thursday-bunko/2029-07-05/
LOCATION:Luther Community Center\, 18120 East Hogback Road\, Luther\, OK\, 73054
CATEGORIES:Luther Historical Society,Visit Luther
ATTACH;FMTTYPE=image/png:https://lutherregister.news/wp-content/uploads/2026/04/BUNKO.png
END:VEVENT
BEGIN:VEVENT
DTSTART;TZID=America/Chicago:20290802T190000
DTEND;TZID=America/Chicago:20290802T210000
DTSTAMP:20260421T091359
CREATED:20260420T214401Z
LAST-MODIFIED:20260420T214401Z
UID:10000166-1880391600-1880398800@lutherregister.news
SUMMARY:First Thursday BUNKO
DESCRIPTION:Join the Luther Historical Society for a night of making friends and rolling the dice! The game is easy\, and the laughs are free. LHS will also share stories about our town’s history and its goals to create the new Plaza Memorial Park on Main Street. \n \n            \n            \n\n	Related
URL:https://lutherregister.news/event/first-thursday-bunko/2029-08-02/
LOCATION:Luther Community Center\, 18120 East Hogback Road\, Luther\, OK\, 73054
CATEGORIES:Luther Historical Society,Visit Luther
ATTACH;FMTTYPE=image/png:https://lutherregister.news/wp-content/uploads/2026/04/BUNKO.png
END:VEVENT
BEGIN:VEVENT
DTSTART;TZID=America/Chicago:20290906T190000
DTEND;TZID=America/Chicago:20290906T210000
DTSTAMP:20260421T091359
CREATED:20260420T214401Z
LAST-MODIFIED:20260420T214401Z
UID:10000167-1883415600-1883422800@lutherregister.news
SUMMARY:First Thursday BUNKO
DESCRIPTION:Join the Luther Historical Society for a night of making friends and rolling the dice! The game is easy\, and the laughs are free. LHS will also share stories about our town’s history and its goals to create the new Plaza Memorial Park on Main Street. \n \n            \n            \n\n	Related
URL:https://lutherregister.news/event/first-thursday-bunko/2029-09-06/
LOCATION:Luther Community Center\, 18120 East Hogback Road\, Luther\, OK\, 73054
CATEGORIES:Luther Historical Society,Visit Luther
ATTACH;FMTTYPE=image/png:https://lutherregister.news/wp-content/uploads/2026/04/BUNKO.png
END:VEVENT
BEGIN:VEVENT
DTSTART;TZID=America/Chicago:20291004T190000
DTEND;TZID=America/Chicago:20291004T210000
DTSTAMP:20260421T091359
CREATED:20260420T214401Z
LAST-MODIFIED:20260420T214401Z
UID:10000168-1885834800-1885842000@lutherregister.news
SUMMARY:First Thursday BUNKO
DESCRIPTION:Join the Luther Historical Society for a night of making friends and rolling the dice! The game is easy\, and the laughs are free. LHS will also share stories about our town’s history and its goals to create the new Plaza Memorial Park on Main Street. \n \n            \n            \n\n	Related
URL:https://lutherregister.news/event/first-thursday-bunko/2029-10-04/
LOCATION:Luther Community Center\, 18120 East Hogback Road\, Luther\, OK\, 73054
CATEGORIES:Luther Historical Society,Visit Luther
ATTACH;FMTTYPE=image/png:https://lutherregister.news/wp-content/uploads/2026/04/BUNKO.png
END:VEVENT
END:VCALENDAR