BEGIN:VCALENDAR
VERSION:2.0
PRODID:-//Luther Register News - ECPv6.15.20//NONSGML v1.0//EN
CALSCALE:GREGORIAN
METHOD:PUBLISH
X-ORIGINAL-URL:https://lutherregister.news
X-WR-CALDESC:Events for Luther Register News
REFRESH-INTERVAL;VALUE=DURATION:PT1H
X-Robots-Tag:noindex
X-PUBLISHED-TTL:PT1H
BEGIN:VTIMEZONE
TZID:America/Chicago
BEGIN:DAYLIGHT
TZOFFSETFROM:-0600
TZOFFSETTO:-0500
TZNAME:CDT
DTSTART:20250309T080000
END:DAYLIGHT
BEGIN:STANDARD
TZOFFSETFROM:-0500
TZOFFSETTO:-0600
TZNAME:CST
DTSTART:20251102T070000
END:STANDARD
BEGIN:DAYLIGHT
TZOFFSETFROM:-0600
TZOFFSETTO:-0500
TZNAME:CDT
DTSTART:20260308T080000
END:DAYLIGHT
BEGIN:STANDARD
TZOFFSETFROM:-0500
TZOFFSETTO:-0600
TZNAME:CST
DTSTART:20261101T070000
END:STANDARD
BEGIN:DAYLIGHT
TZOFFSETFROM:-0600
TZOFFSETTO:-0500
TZNAME:CDT
DTSTART:20270314T080000
END:DAYLIGHT
BEGIN:STANDARD
TZOFFSETFROM:-0500
TZOFFSETTO:-0600
TZNAME:CST
DTSTART:20271107T070000
END:STANDARD
END:VTIMEZONE
BEGIN:VEVENT
DTSTART;TZID=America/Chicago:20260620T090000
DTEND;TZID=America/Chicago:20260620T130000
DTSTAMP:20260421T140946
CREATED:20260420T204352Z
LAST-MODIFIED:20260420T204352Z
UID:10000062-1781946000-1781960400@lutherregister.news
SUMMARY:Third Saturday Markets
DESCRIPTION:Back for its second year\, the Luther Business Alliance promotes “shoplocal” through the THIRD Saturday markets from April to October. It’s our opportunity to visit downtown stores\, visit local vendors\, and see what special activities are happening. Face painting\, fresh eggs\, sourdough loaves\, fresh coffee\, jewelry\, rotating vendors. Look for live music\, lots of neighborly chatting\, and fresh finds.
URL:https://lutherregister.news/event/third-saturday-markets/2026-06-20/
LOCATION:Luther Main Street\, PO Box 311\, (20401 E Charter Oak Road)\, Luther\, OK\, 73054\, United States
CATEGORIES:Luther Business Alliance
ATTACH;FMTTYPE=image/png:https://lutherregister.news/wp-content/uploads/2026/04/1.png
END:VEVENT
END:VCALENDAR