BEGIN:VCALENDAR
VERSION:2.0
PRODID:-//Luther Register News - ECPv6.15.20//NONSGML v1.0//EN
CALSCALE:GREGORIAN
METHOD:PUBLISH
X-WR-CALNAME:Luther Register News
X-ORIGINAL-URL:https://lutherregister.news
X-WR-CALDESC:Events for Luther Register News
REFRESH-INTERVAL;VALUE=DURATION:PT1H
X-Robots-Tag:noindex
X-PUBLISHED-TTL:PT1H
BEGIN:VTIMEZONE
TZID:America/Chicago
BEGIN:DAYLIGHT
TZOFFSETFROM:-0600
TZOFFSETTO:-0500
TZNAME:CDT
DTSTART:20280312T080000
END:DAYLIGHT
BEGIN:STANDARD
TZOFFSETFROM:-0500
TZOFFSETTO:-0600
TZNAME:CST
DTSTART:20281105T070000
END:STANDARD
BEGIN:DAYLIGHT
TZOFFSETFROM:-0600
TZOFFSETTO:-0500
TZNAME:CDT
DTSTART:20290311T080000
END:DAYLIGHT
BEGIN:STANDARD
TZOFFSETFROM:-0500
TZOFFSETTO:-0600
TZNAME:CST
DTSTART:20291104T070000
END:STANDARD
BEGIN:DAYLIGHT
TZOFFSETFROM:-0600
TZOFFSETTO:-0500
TZNAME:CDT
DTSTART:20300310T080000
END:DAYLIGHT
BEGIN:STANDARD
TZOFFSETFROM:-0500
TZOFFSETTO:-0600
TZNAME:CST
DTSTART:20301103T070000
END:STANDARD
BEGIN:DAYLIGHT
TZOFFSETFROM:-0600
TZOFFSETTO:-0500
TZNAME:CDT
DTSTART:20310309T080000
END:DAYLIGHT
BEGIN:STANDARD
TZOFFSETFROM:-0500
TZOFFSETTO:-0600
TZNAME:CST
DTSTART:20311102T070000
END:STANDARD
BEGIN:DAYLIGHT
TZOFFSETFROM:-0600
TZOFFSETTO:-0500
TZNAME:CDT
DTSTART:20320314T080000
END:DAYLIGHT
BEGIN:STANDARD
TZOFFSETFROM:-0500
TZOFFSETTO:-0600
TZNAME:CST
DTSTART:20321107T070000
END:STANDARD
END:VTIMEZONE
BEGIN:VEVENT
DTSTART;TZID=America/Chicago:20290508T190000
DTEND;TZID=America/Chicago:20290508T203000
DTSTAMP:20260421T202811
CREATED:20260420T213651Z
LAST-MODIFIED:20260420T214610Z
UID:10000103-1872961200-1872966600@lutherregister.news
SUMMARY:Luther Town Board Meetings
DESCRIPTION:Every First Tuesday. Agendas posted here 24 hours before the meetings held at Town Hall\, 108 S Main.
URL:https://lutherregister.news/event/luther-town-board-meetings/2029-05-08/
LOCATION:Luther Town Hall\, 108 S Main\, Luther\, OK\, 73054\, United States
CATEGORIES:Town of Luther
ATTACH;FMTTYPE=image/png:https://lutherregister.news/wp-content/uploads/2026/04/meetings.png
END:VEVENT
BEGIN:VEVENT
DTSTART;TZID=America/Chicago:20290612T190000
DTEND;TZID=America/Chicago:20290612T203000
DTSTAMP:20260421T202811
CREATED:20260420T213651Z
LAST-MODIFIED:20260420T214610Z
UID:10000104-1875985200-1875990600@lutherregister.news
SUMMARY:Luther Town Board Meetings
DESCRIPTION:Every First Tuesday. Agendas posted here 24 hours before the meetings held at Town Hall\, 108 S Main.
URL:https://lutherregister.news/event/luther-town-board-meetings/2029-06-12/
LOCATION:Luther Town Hall\, 108 S Main\, Luther\, OK\, 73054\, United States
CATEGORIES:Town of Luther
ATTACH;FMTTYPE=image/png:https://lutherregister.news/wp-content/uploads/2026/04/meetings.png
END:VEVENT
BEGIN:VEVENT
DTSTART;TZID=America/Chicago:20290710T190000
DTEND;TZID=America/Chicago:20290710T203000
DTSTAMP:20260421T202811
CREATED:20260420T213651Z
LAST-MODIFIED:20260420T214610Z
UID:10000105-1878404400-1878409800@lutherregister.news
SUMMARY:Luther Town Board Meetings
DESCRIPTION:Every First Tuesday. Agendas posted here 24 hours before the meetings held at Town Hall\, 108 S Main.
URL:https://lutherregister.news/event/luther-town-board-meetings/2029-07-10/
LOCATION:Luther Town Hall\, 108 S Main\, Luther\, OK\, 73054\, United States
CATEGORIES:Town of Luther
ATTACH;FMTTYPE=image/png:https://lutherregister.news/wp-content/uploads/2026/04/meetings.png
END:VEVENT
BEGIN:VEVENT
DTSTART;TZID=America/Chicago:20290814T190000
DTEND;TZID=America/Chicago:20290814T203000
DTSTAMP:20260421T202811
CREATED:20260420T213651Z
LAST-MODIFIED:20260420T214610Z
UID:10000106-1881428400-1881433800@lutherregister.news
SUMMARY:Luther Town Board Meetings
DESCRIPTION:Every First Tuesday. Agendas posted here 24 hours before the meetings held at Town Hall\, 108 S Main.
URL:https://lutherregister.news/event/luther-town-board-meetings/2029-08-14/
LOCATION:Luther Town Hall\, 108 S Main\, Luther\, OK\, 73054\, United States
CATEGORIES:Town of Luther
ATTACH;FMTTYPE=image/png:https://lutherregister.news/wp-content/uploads/2026/04/meetings.png
END:VEVENT
BEGIN:VEVENT
DTSTART;TZID=America/Chicago:20290911T190000
DTEND;TZID=America/Chicago:20290911T203000
DTSTAMP:20260421T202811
CREATED:20260420T213651Z
LAST-MODIFIED:20260420T214610Z
UID:10000107-1883847600-1883853000@lutherregister.news
SUMMARY:Luther Town Board Meetings
DESCRIPTION:Every First Tuesday. Agendas posted here 24 hours before the meetings held at Town Hall\, 108 S Main.
URL:https://lutherregister.news/event/luther-town-board-meetings/2029-09-11/
LOCATION:Luther Town Hall\, 108 S Main\, Luther\, OK\, 73054\, United States
CATEGORIES:Town of Luther
ATTACH;FMTTYPE=image/png:https://lutherregister.news/wp-content/uploads/2026/04/meetings.png
END:VEVENT
BEGIN:VEVENT
DTSTART;TZID=America/Chicago:20291009T190000
DTEND;TZID=America/Chicago:20291009T203000
DTSTAMP:20260421T202811
CREATED:20260420T213651Z
LAST-MODIFIED:20260420T214610Z
UID:10000108-1886266800-1886272200@lutherregister.news
SUMMARY:Luther Town Board Meetings
DESCRIPTION:Every First Tuesday. Agendas posted here 24 hours before the meetings held at Town Hall\, 108 S Main.
URL:https://lutherregister.news/event/luther-town-board-meetings/2029-10-09/
LOCATION:Luther Town Hall\, 108 S Main\, Luther\, OK\, 73054\, United States
CATEGORIES:Town of Luther
ATTACH;FMTTYPE=image/png:https://lutherregister.news/wp-content/uploads/2026/04/meetings.png
END:VEVENT
BEGIN:VEVENT
DTSTART;TZID=America/Chicago:20291113T190000
DTEND;TZID=America/Chicago:20291113T203000
DTSTAMP:20260421T202811
CREATED:20260420T213651Z
LAST-MODIFIED:20260420T214610Z
UID:10000109-1889290800-1889296200@lutherregister.news
SUMMARY:Luther Town Board Meetings
DESCRIPTION:Every First Tuesday. Agendas posted here 24 hours before the meetings held at Town Hall\, 108 S Main.
URL:https://lutherregister.news/event/luther-town-board-meetings/2029-11-13/
LOCATION:Luther Town Hall\, 108 S Main\, Luther\, OK\, 73054\, United States
CATEGORIES:Town of Luther
ATTACH;FMTTYPE=image/png:https://lutherregister.news/wp-content/uploads/2026/04/meetings.png
END:VEVENT
BEGIN:VEVENT
DTSTART;TZID=America/Chicago:20291211T190000
DTEND;TZID=America/Chicago:20291211T203000
DTSTAMP:20260421T202811
CREATED:20260420T213651Z
LAST-MODIFIED:20260420T214610Z
UID:10000110-1891710000-1891715400@lutherregister.news
SUMMARY:Luther Town Board Meetings
DESCRIPTION:Every First Tuesday. Agendas posted here 24 hours before the meetings held at Town Hall\, 108 S Main.
URL:https://lutherregister.news/event/luther-town-board-meetings/2029-12-11/
LOCATION:Luther Town Hall\, 108 S Main\, Luther\, OK\, 73054\, United States
CATEGORIES:Town of Luther
ATTACH;FMTTYPE=image/png:https://lutherregister.news/wp-content/uploads/2026/04/meetings.png
END:VEVENT
BEGIN:VEVENT
DTSTART;TZID=America/Chicago:20300108T190000
DTEND;TZID=America/Chicago:20300108T203000
DTSTAMP:20260421T202811
CREATED:20260420T213651Z
LAST-MODIFIED:20260420T214610Z
UID:10000111-1894129200-1894134600@lutherregister.news
SUMMARY:Luther Town Board Meetings
DESCRIPTION:Every First Tuesday. Agendas posted here 24 hours before the meetings held at Town Hall\, 108 S Main.
URL:https://lutherregister.news/event/luther-town-board-meetings/2030-01-08/
LOCATION:Luther Town Hall\, 108 S Main\, Luther\, OK\, 73054\, United States
CATEGORIES:Town of Luther
ATTACH;FMTTYPE=image/png:https://lutherregister.news/wp-content/uploads/2026/04/meetings.png
END:VEVENT
BEGIN:VEVENT
DTSTART;TZID=America/Chicago:20300212T190000
DTEND;TZID=America/Chicago:20300212T203000
DTSTAMP:20260421T202811
CREATED:20260420T213651Z
LAST-MODIFIED:20260420T214610Z
UID:10000112-1897153200-1897158600@lutherregister.news
SUMMARY:Luther Town Board Meetings
DESCRIPTION:Every First Tuesday. Agendas posted here 24 hours before the meetings held at Town Hall\, 108 S Main.
URL:https://lutherregister.news/event/luther-town-board-meetings/2030-02-12/
LOCATION:Luther Town Hall\, 108 S Main\, Luther\, OK\, 73054\, United States
CATEGORIES:Town of Luther
ATTACH;FMTTYPE=image/png:https://lutherregister.news/wp-content/uploads/2026/04/meetings.png
END:VEVENT
BEGIN:VEVENT
DTSTART;TZID=America/Chicago:20300312T190000
DTEND;TZID=America/Chicago:20300312T203000
DTSTAMP:20260421T202811
CREATED:20260420T213651Z
LAST-MODIFIED:20260420T214610Z
UID:10000113-1899572400-1899577800@lutherregister.news
SUMMARY:Luther Town Board Meetings
DESCRIPTION:Every First Tuesday. Agendas posted here 24 hours before the meetings held at Town Hall\, 108 S Main.
URL:https://lutherregister.news/event/luther-town-board-meetings/2030-03-12/
LOCATION:Luther Town Hall\, 108 S Main\, Luther\, OK\, 73054\, United States
CATEGORIES:Town of Luther
ATTACH;FMTTYPE=image/png:https://lutherregister.news/wp-content/uploads/2026/04/meetings.png
END:VEVENT
BEGIN:VEVENT
DTSTART;TZID=America/Chicago:20300409T190000
DTEND;TZID=America/Chicago:20300409T203000
DTSTAMP:20260421T202811
CREATED:20260420T213651Z
LAST-MODIFIED:20260420T214610Z
UID:10000114-1901991600-1901997000@lutherregister.news
SUMMARY:Luther Town Board Meetings
DESCRIPTION:Every First Tuesday. Agendas posted here 24 hours before the meetings held at Town Hall\, 108 S Main.
URL:https://lutherregister.news/event/luther-town-board-meetings/2030-04-09/
LOCATION:Luther Town Hall\, 108 S Main\, Luther\, OK\, 73054\, United States
CATEGORIES:Town of Luther
ATTACH;FMTTYPE=image/png:https://lutherregister.news/wp-content/uploads/2026/04/meetings.png
END:VEVENT
BEGIN:VEVENT
DTSTART;TZID=America/Chicago:20300514T190000
DTEND;TZID=America/Chicago:20300514T203000
DTSTAMP:20260421T202811
CREATED:20260420T213651Z
LAST-MODIFIED:20260420T214610Z
UID:10000115-1905015600-1905021000@lutherregister.news
SUMMARY:Luther Town Board Meetings
DESCRIPTION:Every First Tuesday. Agendas posted here 24 hours before the meetings held at Town Hall\, 108 S Main.
URL:https://lutherregister.news/event/luther-town-board-meetings/2030-05-14/
LOCATION:Luther Town Hall\, 108 S Main\, Luther\, OK\, 73054\, United States
CATEGORIES:Town of Luther
ATTACH;FMTTYPE=image/png:https://lutherregister.news/wp-content/uploads/2026/04/meetings.png
END:VEVENT
BEGIN:VEVENT
DTSTART;TZID=America/Chicago:20300611T190000
DTEND;TZID=America/Chicago:20300611T203000
DTSTAMP:20260421T202811
CREATED:20260420T213651Z
LAST-MODIFIED:20260420T214610Z
UID:10000116-1907434800-1907440200@lutherregister.news
SUMMARY:Luther Town Board Meetings
DESCRIPTION:Every First Tuesday. Agendas posted here 24 hours before the meetings held at Town Hall\, 108 S Main.
URL:https://lutherregister.news/event/luther-town-board-meetings/2030-06-11/
LOCATION:Luther Town Hall\, 108 S Main\, Luther\, OK\, 73054\, United States
CATEGORIES:Town of Luther
ATTACH;FMTTYPE=image/png:https://lutherregister.news/wp-content/uploads/2026/04/meetings.png
END:VEVENT
BEGIN:VEVENT
DTSTART;TZID=America/Chicago:20300709T190000
DTEND;TZID=America/Chicago:20300709T203000
DTSTAMP:20260421T202811
CREATED:20260420T213651Z
LAST-MODIFIED:20260420T214610Z
UID:10000117-1909854000-1909859400@lutherregister.news
SUMMARY:Luther Town Board Meetings
DESCRIPTION:Every First Tuesday. Agendas posted here 24 hours before the meetings held at Town Hall\, 108 S Main.
URL:https://lutherregister.news/event/luther-town-board-meetings/2030-07-09/
LOCATION:Luther Town Hall\, 108 S Main\, Luther\, OK\, 73054\, United States
CATEGORIES:Town of Luther
ATTACH;FMTTYPE=image/png:https://lutherregister.news/wp-content/uploads/2026/04/meetings.png
END:VEVENT
BEGIN:VEVENT
DTSTART;TZID=America/Chicago:20300813T190000
DTEND;TZID=America/Chicago:20300813T203000
DTSTAMP:20260421T202811
CREATED:20260420T213651Z
LAST-MODIFIED:20260420T214610Z
UID:10000118-1912878000-1912883400@lutherregister.news
SUMMARY:Luther Town Board Meetings
DESCRIPTION:Every First Tuesday. Agendas posted here 24 hours before the meetings held at Town Hall\, 108 S Main.
URL:https://lutherregister.news/event/luther-town-board-meetings/2030-08-13/
LOCATION:Luther Town Hall\, 108 S Main\, Luther\, OK\, 73054\, United States
CATEGORIES:Town of Luther
ATTACH;FMTTYPE=image/png:https://lutherregister.news/wp-content/uploads/2026/04/meetings.png
END:VEVENT
BEGIN:VEVENT
DTSTART;TZID=America/Chicago:20300910T190000
DTEND;TZID=America/Chicago:20300910T203000
DTSTAMP:20260421T202811
CREATED:20260420T213651Z
LAST-MODIFIED:20260420T214610Z
UID:10000119-1915297200-1915302600@lutherregister.news
SUMMARY:Luther Town Board Meetings
DESCRIPTION:Every First Tuesday. Agendas posted here 24 hours before the meetings held at Town Hall\, 108 S Main.
URL:https://lutherregister.news/event/luther-town-board-meetings/2030-09-10/
LOCATION:Luther Town Hall\, 108 S Main\, Luther\, OK\, 73054\, United States
CATEGORIES:Town of Luther
ATTACH;FMTTYPE=image/png:https://lutherregister.news/wp-content/uploads/2026/04/meetings.png
END:VEVENT
BEGIN:VEVENT
DTSTART;TZID=America/Chicago:20301008T190000
DTEND;TZID=America/Chicago:20301008T203000
DTSTAMP:20260421T202811
CREATED:20260420T213651Z
LAST-MODIFIED:20260420T214610Z
UID:10000120-1917716400-1917721800@lutherregister.news
SUMMARY:Luther Town Board Meetings
DESCRIPTION:Every First Tuesday. Agendas posted here 24 hours before the meetings held at Town Hall\, 108 S Main.
URL:https://lutherregister.news/event/luther-town-board-meetings/2030-10-08/
LOCATION:Luther Town Hall\, 108 S Main\, Luther\, OK\, 73054\, United States
CATEGORIES:Town of Luther
ATTACH;FMTTYPE=image/png:https://lutherregister.news/wp-content/uploads/2026/04/meetings.png
END:VEVENT
BEGIN:VEVENT
DTSTART;TZID=America/Chicago:20301112T190000
DTEND;TZID=America/Chicago:20301112T203000
DTSTAMP:20260421T202811
CREATED:20260420T213651Z
LAST-MODIFIED:20260420T214610Z
UID:10000121-1920740400-1920745800@lutherregister.news
SUMMARY:Luther Town Board Meetings
DESCRIPTION:Every First Tuesday. Agendas posted here 24 hours before the meetings held at Town Hall\, 108 S Main.
URL:https://lutherregister.news/event/luther-town-board-meetings/2030-11-12/
LOCATION:Luther Town Hall\, 108 S Main\, Luther\, OK\, 73054\, United States
CATEGORIES:Town of Luther
ATTACH;FMTTYPE=image/png:https://lutherregister.news/wp-content/uploads/2026/04/meetings.png
END:VEVENT
BEGIN:VEVENT
DTSTART;TZID=America/Chicago:20301210T190000
DTEND;TZID=America/Chicago:20301210T203000
DTSTAMP:20260421T202811
CREATED:20260420T213651Z
LAST-MODIFIED:20260420T214610Z
UID:10000122-1923159600-1923165000@lutherregister.news
SUMMARY:Luther Town Board Meetings
DESCRIPTION:Every First Tuesday. Agendas posted here 24 hours before the meetings held at Town Hall\, 108 S Main.
URL:https://lutherregister.news/event/luther-town-board-meetings/2030-12-10/
LOCATION:Luther Town Hall\, 108 S Main\, Luther\, OK\, 73054\, United States
CATEGORIES:Town of Luther
ATTACH;FMTTYPE=image/png:https://lutherregister.news/wp-content/uploads/2026/04/meetings.png
END:VEVENT
BEGIN:VEVENT
DTSTART;TZID=America/Chicago:20310114T190000
DTEND;TZID=America/Chicago:20310114T203000
DTSTAMP:20260421T202811
CREATED:20260420T213651Z
LAST-MODIFIED:20260420T214610Z
UID:10000123-1926183600-1926189000@lutherregister.news
SUMMARY:Luther Town Board Meetings
DESCRIPTION:Every First Tuesday. Agendas posted here 24 hours before the meetings held at Town Hall\, 108 S Main.
URL:https://lutherregister.news/event/luther-town-board-meetings/2031-01-14/
LOCATION:Luther Town Hall\, 108 S Main\, Luther\, OK\, 73054\, United States
CATEGORIES:Town of Luther
ATTACH;FMTTYPE=image/png:https://lutherregister.news/wp-content/uploads/2026/04/meetings.png
END:VEVENT
BEGIN:VEVENT
DTSTART;TZID=America/Chicago:20310211T190000
DTEND;TZID=America/Chicago:20310211T203000
DTSTAMP:20260421T202811
CREATED:20260420T213651Z
LAST-MODIFIED:20260420T214610Z
UID:10000124-1928602800-1928608200@lutherregister.news
SUMMARY:Luther Town Board Meetings
DESCRIPTION:Every First Tuesday. Agendas posted here 24 hours before the meetings held at Town Hall\, 108 S Main.
URL:https://lutherregister.news/event/luther-town-board-meetings/2031-02-11/
LOCATION:Luther Town Hall\, 108 S Main\, Luther\, OK\, 73054\, United States
CATEGORIES:Town of Luther
ATTACH;FMTTYPE=image/png:https://lutherregister.news/wp-content/uploads/2026/04/meetings.png
END:VEVENT
BEGIN:VEVENT
DTSTART;TZID=America/Chicago:20310311T190000
DTEND;TZID=America/Chicago:20310311T203000
DTSTAMP:20260421T202811
CREATED:20260420T213651Z
LAST-MODIFIED:20260420T214610Z
UID:10000125-1931022000-1931027400@lutherregister.news
SUMMARY:Luther Town Board Meetings
DESCRIPTION:Every First Tuesday. Agendas posted here 24 hours before the meetings held at Town Hall\, 108 S Main.
URL:https://lutherregister.news/event/luther-town-board-meetings/2031-03-11/
LOCATION:Luther Town Hall\, 108 S Main\, Luther\, OK\, 73054\, United States
CATEGORIES:Town of Luther
ATTACH;FMTTYPE=image/png:https://lutherregister.news/wp-content/uploads/2026/04/meetings.png
END:VEVENT
BEGIN:VEVENT
DTSTART;TZID=America/Chicago:20310408T190000
DTEND;TZID=America/Chicago:20310408T203000
DTSTAMP:20260421T202811
CREATED:20260420T213651Z
LAST-MODIFIED:20260420T214610Z
UID:10000126-1933441200-1933446600@lutherregister.news
SUMMARY:Luther Town Board Meetings
DESCRIPTION:Every First Tuesday. Agendas posted here 24 hours before the meetings held at Town Hall\, 108 S Main.
URL:https://lutherregister.news/event/luther-town-board-meetings/2031-04-08/
LOCATION:Luther Town Hall\, 108 S Main\, Luther\, OK\, 73054\, United States
CATEGORIES:Town of Luther
ATTACH;FMTTYPE=image/png:https://lutherregister.news/wp-content/uploads/2026/04/meetings.png
END:VEVENT
END:VCALENDAR