BEGIN:VCALENDAR
VERSION:2.0
PRODID:-//Luther Register News - ECPv6.15.20//NONSGML v1.0//EN
CALSCALE:GREGORIAN
METHOD:PUBLISH
X-WR-CALNAME:Luther Register News
X-ORIGINAL-URL:https://lutherregister.news
X-WR-CALDESC:Events for Luther Register News
REFRESH-INTERVAL;VALUE=DURATION:PT1H
X-Robots-Tag:noindex
X-PUBLISHED-TTL:PT1H
BEGIN:VTIMEZONE
TZID:America/Chicago
BEGIN:DAYLIGHT
TZOFFSETFROM:-0600
TZOFFSETTO:-0500
TZNAME:CDT
DTSTART:20250309T080000
END:DAYLIGHT
BEGIN:STANDARD
TZOFFSETFROM:-0500
TZOFFSETTO:-0600
TZNAME:CST
DTSTART:20251102T070000
END:STANDARD
BEGIN:DAYLIGHT
TZOFFSETFROM:-0600
TZOFFSETTO:-0500
TZNAME:CDT
DTSTART:20260308T080000
END:DAYLIGHT
BEGIN:STANDARD
TZOFFSETFROM:-0500
TZOFFSETTO:-0600
TZNAME:CST
DTSTART:20261101T070000
END:STANDARD
BEGIN:DAYLIGHT
TZOFFSETFROM:-0600
TZOFFSETTO:-0500
TZNAME:CDT
DTSTART:20270314T080000
END:DAYLIGHT
BEGIN:STANDARD
TZOFFSETFROM:-0500
TZOFFSETTO:-0600
TZNAME:CST
DTSTART:20271107T070000
END:STANDARD
END:VTIMEZONE
BEGIN:VEVENT
DTSTART;TZID=America/Chicago:20261001T190000
DTEND;TZID=America/Chicago:20261001T210000
DTSTAMP:20260421T183422
CREATED:20260420T214401Z
LAST-MODIFIED:20260420T214401Z
UID:10000132-1790881200-1790888400@lutherregister.news
SUMMARY:First Thursday BUNKO
DESCRIPTION:Join the Luther Historical Society for a night of making friends and rolling the dice! The game is easy\, and the laughs are free. LHS will also share stories about our town’s history and its goals to create the new Plaza Memorial Park on Main Street.
URL:https://lutherregister.news/event/first-thursday-bunko/2026-10-01/
LOCATION:Luther Community Center\, 18120 East Hogback Road\, Luther\, OK\, 73054
CATEGORIES:Luther Historical Society,Visit Luther
ATTACH;FMTTYPE=image/png:https://lutherregister.news/wp-content/uploads/2026/04/BUNKO.png
END:VEVENT
END:VCALENDAR